BEGIN:VCALENDAR
VERSION:2.0
PRODID:-//Tolleson Union High School District - ECPv6.15.17.1//NONSGML v1.0//EN
CALSCALE:GREGORIAN
METHOD:PUBLISH
X-WR-CALNAME:Tolleson Union High School District
X-ORIGINAL-URL:https://www.tuhsd.org
X-WR-CALDESC:Events for Tolleson Union High School District
REFRESH-INTERVAL;VALUE=DURATION:PT1H
X-Robots-Tag:noindex
X-PUBLISHED-TTL:PT1H
BEGIN:VTIMEZONE
TZID:America/Phoenix
BEGIN:STANDARD
TZOFFSETFROM:-0700
TZOFFSETTO:-0700
TZNAME:MST
DTSTART:20250101T000000
END:STANDARD
END:VTIMEZONE
BEGIN:VEVENT
DTSTART;TZID=America/Phoenix:20260415T180000
DTEND;TZID=America/Phoenix:20260415T180000
DTSTAMP:20260419T072440
CREATED:20260203T230819Z
LAST-MODIFIED:20260203T230819Z
UID:10001195-1776276000-1776276000@www.tuhsd.org
SUMMARY:Family Resource Center Meeting
DESCRIPTION:
URL:https://www.tuhsd.org/calendar-event/family-resource-center-meeting-6
LOCATION:District Office\, 9801 W. Van Buren Street\, Tolleson\, AZ\, 85353
END:VEVENT
BEGIN:VEVENT
DTSTART;TZID=America/Phoenix:20260324T170000
DTEND;TZID=America/Phoenix:20260324T170000
DTSTAMP:20260419T072440
CREATED:20260316T200017Z
LAST-MODIFIED:20260316T200017Z
UID:10001201-1774371600-1774371600@www.tuhsd.org
SUMMARY:TUHSD ESS Department Meeting
DESCRIPTION:
URL:https://www.tuhsd.org/calendar-event/tuhsd-ess-department-meeting
LOCATION:District Office\, 9801 W. Van Buren Street\, Tolleson\, AZ\, 85353
END:VEVENT
BEGIN:VEVENT
DTSTART;TZID=America/Phoenix:20260318T180000
DTEND;TZID=America/Phoenix:20260318T180000
DTSTAMP:20260419T072440
CREATED:20260203T230637Z
LAST-MODIFIED:20260203T230637Z
UID:10001194-1773856800-1773856800@www.tuhsd.org
SUMMARY:Family Resource Center Meeting
DESCRIPTION:
URL:https://www.tuhsd.org/calendar-event/family-resource-center-meeting-5
LOCATION:District Office\, 9801 W. Van Buren Street\, Tolleson\, AZ\, 85353
END:VEVENT
BEGIN:VEVENT
DTSTART;TZID=America/Phoenix:20260225T180000
DTEND;TZID=America/Phoenix:20260225T180000
DTSTAMP:20260419T072440
CREATED:20260203T230432Z
LAST-MODIFIED:20260203T230432Z
UID:10001193-1772042400-1772042400@www.tuhsd.org
SUMMARY:Family Resource Center Meeting
DESCRIPTION:
URL:https://www.tuhsd.org/calendar-event/family-resource-center-meeting-4
LOCATION:District Office\, 9801 W. Van Buren Street\, Tolleson\, AZ\, 85353
END:VEVENT
BEGIN:VEVENT
DTSTART;TZID=America/Phoenix:20260204T180000
DTEND;TZID=America/Phoenix:20260204T180000
DTSTAMP:20260419T072440
CREATED:20260129T013955Z
LAST-MODIFIED:20260129T013955Z
UID:10001190-1770228000-1770228000@www.tuhsd.org
SUMMARY:Family Resource Center Meeting
DESCRIPTION:
URL:https://www.tuhsd.org/calendar-event/family-resource-center-meeting
LOCATION:District Office\, 9801 W. Van Buren Street\, Tolleson\, AZ\, 85353
END:VEVENT
END:VCALENDAR