BEGIN:VCALENDAR
VERSION:2.0
PRODID:-//Tolleson Union High School District - ECPv6.15.17.1//NONSGML v1.0//EN
CALSCALE:GREGORIAN
METHOD:PUBLISH
X-ORIGINAL-URL:https://www.tuhsd.org
X-WR-CALDESC:Events for Tolleson Union High School District
REFRESH-INTERVAL;VALUE=DURATION:PT1H
X-Robots-Tag:noindex
X-PUBLISHED-TTL:PT1H
BEGIN:VTIMEZONE
TZID:America/Phoenix
BEGIN:STANDARD
TZOFFSETFROM:-0700
TZOFFSETTO:-0700
TZNAME:MST
DTSTART:20240101T000000
END:STANDARD
END:VTIMEZONE
BEGIN:VEVENT
DTSTART;TZID=America/Phoenix:20260331T180000
DTEND;TZID=America/Phoenix:20260331T190000
DTSTAMP:20260421T112802
CREATED:20260224T020532Z
LAST-MODIFIED:20260224T020532Z
UID:10001197-1774980000-1774983600@www.tuhsd.org
SUMMARY:Community Giveback Event
DESCRIPTION:
URL:https://www.tuhsd.org/calendar-event/community-giveback-event-2
LOCATION:Copper Canyon High School (PAC)\, 9126 West Camelback Road\, Glendale\, AZ 85305
END:VEVENT
BEGIN:VEVENT
DTSTART;TZID=America/Phoenix:20260224T180000
DTEND;TZID=America/Phoenix:20260224T180000
DTSTAMP:20260421T112802
CREATED:20250712T031431Z
LAST-MODIFIED:20250712T031431Z
UID:10001177-1771956000-1771956000@www.tuhsd.org
SUMMARY:Governing Board Meeting
DESCRIPTION:
URL:https://www.tuhsd.org/calendar-event/governing-board-meeting-13
LOCATION:Copper Canyon High School (PAC)\, 9126 West Camelback Road\, Glendale\, AZ 85305
END:VEVENT
BEGIN:VEVENT
DTSTART;TZID=America/Phoenix:20260210T180000
DTEND;TZID=America/Phoenix:20260210T180000
DTSTAMP:20260421T112802
CREATED:20250712T031328Z
LAST-MODIFIED:20250712T031328Z
UID:10001176-1770746400-1770746400@www.tuhsd.org
SUMMARY:Governing Board Meeting
DESCRIPTION:
URL:https://www.tuhsd.org/calendar-event/governing-board-meeting-12
LOCATION:Copper Canyon High School (PAC)\, 9126 West Camelback Road\, Glendale\, AZ 85305
END:VEVENT
BEGIN:VEVENT
DTSTART;TZID=America/Phoenix:20260127T180000
DTEND;TZID=America/Phoenix:20260127T180000
DTSTAMP:20260421T112802
CREATED:20250712T031234Z
LAST-MODIFIED:20250712T031234Z
UID:10001175-1769536800-1769536800@www.tuhsd.org
SUMMARY:Governing Board Meeting
DESCRIPTION:
URL:https://www.tuhsd.org/calendar-event/governing-board-meeting-11
LOCATION:Copper Canyon High School (PAC)\, 9126 West Camelback Road\, Glendale\, AZ 85305
END:VEVENT
BEGIN:VEVENT
DTSTART;TZID=America/Phoenix:20260113T180000
DTEND;TZID=America/Phoenix:20260113T180000
DTSTAMP:20260421T112802
CREATED:20250712T031148Z
LAST-MODIFIED:20250712T031148Z
UID:10001174-1768327200-1768327200@www.tuhsd.org
SUMMARY:Governing Board Meeting
DESCRIPTION:
URL:https://www.tuhsd.org/calendar-event/governing-board-meeting-10
LOCATION:Copper Canyon High School (PAC)\, 9126 West Camelback Road\, Glendale\, AZ 85305
END:VEVENT
BEGIN:VEVENT
DTSTART;TZID=America/Phoenix:20251118T180000
DTEND;TZID=America/Phoenix:20251118T180000
DTSTAMP:20260421T112802
CREATED:20250712T031012Z
LAST-MODIFIED:20250712T031012Z
UID:10001172-1763488800-1763488800@www.tuhsd.org
SUMMARY:Governing Board Meeting
DESCRIPTION:
URL:https://www.tuhsd.org/calendar-event/governing-board-meeting-8
LOCATION:Copper Canyon High School (PAC)\, 9126 West Camelback Road\, Glendale\, AZ 85305
END:VEVENT
BEGIN:VEVENT
DTSTART;TZID=America/Phoenix:20251028T180000
DTEND;TZID=America/Phoenix:20251028T180000
DTSTAMP:20260421T112802
CREATED:20250712T030930Z
LAST-MODIFIED:20251024T231103Z
UID:10001171-1761674400-1761674400@www.tuhsd.org
SUMMARY:Governing Board Meeting (Canceled)
DESCRIPTION:
URL:https://www.tuhsd.org/calendar-event/governing-board-meeting-7
LOCATION:Copper Canyon High School (PAC)\, 9126 West Camelback Road\, Glendale\, AZ 85305
END:VEVENT
BEGIN:VEVENT
DTSTART;TZID=America/Phoenix:20251014T180000
DTEND;TZID=America/Phoenix:20251014T180000
DTSTAMP:20260421T112802
CREATED:20250712T030850Z
LAST-MODIFIED:20250712T030850Z
UID:10001170-1760464800-1760464800@www.tuhsd.org
SUMMARY:Governing Board Meeting
DESCRIPTION:
URL:https://www.tuhsd.org/calendar-event/governing-board-meeting-6
LOCATION:Copper Canyon High School (PAC)\, 9126 West Camelback Road\, Glendale\, AZ 85305
END:VEVENT
BEGIN:VEVENT
DTSTART;TZID=America/Phoenix:20250923T180000
DTEND;TZID=America/Phoenix:20250923T180000
DTSTAMP:20260421T112802
CREATED:20250712T030758Z
LAST-MODIFIED:20250712T030758Z
UID:10001169-1758650400-1758650400@www.tuhsd.org
SUMMARY:Governing Board Meeting
DESCRIPTION:
URL:https://www.tuhsd.org/calendar-event/governing-board-meeting-5
LOCATION:Copper Canyon High School (PAC)\, 9126 West Camelback Road\, Glendale\, AZ 85305
END:VEVENT
BEGIN:VEVENT
DTSTART;TZID=America/Phoenix:20250909T180000
DTEND;TZID=America/Phoenix:20250909T180000
DTSTAMP:20260421T112802
CREATED:20250712T030338Z
LAST-MODIFIED:20250712T030338Z
UID:10001168-1757440800-1757440800@www.tuhsd.org
SUMMARY:Governing Board Meeting
DESCRIPTION:
URL:https://www.tuhsd.org/calendar-event/governing-board-meeting-4
LOCATION:Copper Canyon High School (PAC)\, 9126 West Camelback Road\, Glendale\, AZ 85305
END:VEVENT
BEGIN:VEVENT
DTSTART;TZID=America/Phoenix:20250826T180000
DTEND;TZID=America/Phoenix:20250826T180000
DTSTAMP:20260421T112802
CREATED:20250712T030253Z
LAST-MODIFIED:20250712T030253Z
UID:10001167-1756231200-1756231200@www.tuhsd.org
SUMMARY:Governing Board Meeting
DESCRIPTION:
URL:https://www.tuhsd.org/calendar-event/governing-board-meeting-3
LOCATION:Copper Canyon High School (PAC)\, 9126 West Camelback Road\, Glendale\, AZ 85305
END:VEVENT
BEGIN:VEVENT
DTSTART;TZID=America/Phoenix:20250812T180000
DTEND;TZID=America/Phoenix:20250812T180000
DTSTAMP:20260421T112802
CREATED:20250712T030159Z
LAST-MODIFIED:20250712T030536Z
UID:10001166-1755021600-1755021600@www.tuhsd.org
SUMMARY:Governing Board Meeting
DESCRIPTION:
URL:https://www.tuhsd.org/calendar-event/governing-board-meeting-2
LOCATION:Copper Canyon High School (PAC)\, 9126 West Camelback Road\, Glendale\, AZ 85305
END:VEVENT
BEGIN:VEVENT
DTSTART;TZID=America/Phoenix:20250708T150000
DTEND;TZID=America/Phoenix:20250708T150000
DTSTAMP:20260421T112802
CREATED:20250712T025316Z
LAST-MODIFIED:20250712T025628Z
UID:10001165-1751986800-1751986800@www.tuhsd.org
SUMMARY:Governing Board Meeting
DESCRIPTION:
URL:https://www.tuhsd.org/calendar-event/governing-board-meeting
LOCATION:Copper Canyon High School (PAC)\, 9126 West Camelback Road\, Glendale\, AZ 85305
END:VEVENT
BEGIN:VEVENT
DTSTART;TZID=America/Phoenix:20250527T180000
DTEND;TZID=America/Phoenix:20250527T180000
DTSTAMP:20260421T112802
CREATED:20250524T200705Z
LAST-MODIFIED:20250524T201055Z
UID:10001122-1748368800-1748368800@www.tuhsd.org
SUMMARY:Governing Board Regular Meeting
DESCRIPTION:
URL:https://www.tuhsd.org/calendar-event/governing-board-regular-meeting-5
LOCATION:Copper Canyon High School (PAC)\, 9126 West Camelback Road\, Glendale\, AZ 85305
END:VEVENT
END:VCALENDAR