BEGIN:VCALENDAR
VERSION:2.0
PRODID:-//Tolleson Union High School District - ECPv6.15.17.1//NONSGML v1.0//EN
CALSCALE:GREGORIAN
METHOD:PUBLISH
X-WR-CALNAME:Tolleson Union High School District
X-ORIGINAL-URL:https://www.tuhsd.org
X-WR-CALDESC:Events for Tolleson Union High School District
REFRESH-INTERVAL;VALUE=DURATION:PT1H
X-Robots-Tag:noindex
X-PUBLISHED-TTL:PT1H
BEGIN:VTIMEZONE
TZID:America/Phoenix
BEGIN:STANDARD
TZOFFSETFROM:-0700
TZOFFSETTO:-0700
TZNAME:MST
DTSTART:20250101T000000
END:STANDARD
END:VTIMEZONE
BEGIN:VEVENT
DTSTART;VALUE=DATE:20260803
DTEND;VALUE=DATE:20260804
DTSTAMP:20260425T110230
CREATED:20240509T232238Z
LAST-MODIFIED:20240610T211333Z
UID:10001047-1785715200-1785801599@www.tuhsd.org
SUMMARY:First Day of School for All Students
DESCRIPTION:
URL:https://www.tuhsd.org/calendar-event/first-day-of-school-for-all-students-14
END:VEVENT
BEGIN:VEVENT
DTSTART;VALUE=DATE:20260805
DTEND;VALUE=DATE:20260806
DTSTAMP:20260425T110230
CREATED:20240509T232239Z
LAST-MODIFIED:20240515T055337Z
UID:10001048-1785888000-1785974399@www.tuhsd.org
SUMMARY:Early Release
DESCRIPTION:
URL:https://www.tuhsd.org/calendar-event/early-release-158
END:VEVENT
BEGIN:VEVENT
DTSTART;VALUE=DATE:20260812
DTEND;VALUE=DATE:20260813
DTSTAMP:20260425T110230
CREATED:20240509T232239Z
LAST-MODIFIED:20240515T055329Z
UID:10001049-1786492800-1786579199@www.tuhsd.org
SUMMARY:Early Release
DESCRIPTION:
URL:https://www.tuhsd.org/calendar-event/early-release-159
END:VEVENT
BEGIN:VEVENT
DTSTART;VALUE=DATE:20260813
DTEND;VALUE=DATE:20260814
DTSTAMP:20260425T110230
CREATED:20240509T232240Z
LAST-MODIFIED:20240515T055322Z
UID:10001050-1786579200-1786665599@www.tuhsd.org
SUMMARY:TUHSD Parent Night
DESCRIPTION:
URL:https://www.tuhsd.org/calendar-event/tuhsd-parent-night-6
END:VEVENT
BEGIN:VEVENT
DTSTART;VALUE=DATE:20260819
DTEND;VALUE=DATE:20260820
DTSTAMP:20260425T110230
CREATED:20240509T232240Z
LAST-MODIFIED:20240515T055217Z
UID:10001051-1787097600-1787183999@www.tuhsd.org
SUMMARY:Early Release
DESCRIPTION:
URL:https://www.tuhsd.org/calendar-event/early-release-160
END:VEVENT
BEGIN:VEVENT
DTSTART;VALUE=DATE:20260826
DTEND;VALUE=DATE:20260827
DTSTAMP:20260425T110230
CREATED:20240509T232243Z
LAST-MODIFIED:20240515T055203Z
UID:10001053-1787702400-1787788799@www.tuhsd.org
SUMMARY:Early Release
DESCRIPTION:
URL:https://www.tuhsd.org/calendar-event/early-release-161
END:VEVENT
END:VCALENDAR