BEGIN:VCALENDAR
VERSION:2.0
PRODID:-//Tolleson Union High School District - ECPv6.15.17.1//NONSGML v1.0//EN
CALSCALE:GREGORIAN
METHOD:PUBLISH
X-ORIGINAL-URL:https://www.tuhsd.org
X-WR-CALDESC:Events for Tolleson Union High School District
REFRESH-INTERVAL;VALUE=DURATION:PT1H
X-Robots-Tag:noindex
X-PUBLISHED-TTL:PT1H
BEGIN:VTIMEZONE
TZID:America/Phoenix
BEGIN:STANDARD
TZOFFSETFROM:-0700
TZOFFSETTO:-0700
TZNAME:MST
DTSTART:20240101T000000
END:STANDARD
END:VTIMEZONE
BEGIN:VEVENT
DTSTART;VALUE=DATE:20251001
DTEND;VALUE=DATE:20251002
DTSTAMP:20260424T012222
CREATED:20240509T232157Z
LAST-MODIFIED:20240610T205953Z
UID:10000996-1759276800-1759363199@www.tuhsd.org
SUMMARY:Early Release
DESCRIPTION:
URL:https://www.tuhsd.org/calendar-event/early-release-125
END:VEVENT
BEGIN:VEVENT
DTSTART;VALUE=DATE:20251003
DTEND;VALUE=DATE:20251004
DTSTAMP:20260424T012222
CREATED:20240509T232158Z
LAST-MODIFIED:20240610T211013Z
UID:10000997-1759449600-1759535999@www.tuhsd.org
SUMMARY:End of 1st Quarter
DESCRIPTION:
URL:https://www.tuhsd.org/calendar-event/end-of-1st-quarter-8
END:VEVENT
BEGIN:VEVENT
DTSTART;VALUE=DATE:20251006
DTEND;VALUE=DATE:20251012
DTSTAMP:20260424T012222
CREATED:20240509T232158Z
LAST-MODIFIED:20240509T232158Z
UID:10000998-1759708800-1760227199@www.tuhsd.org
SUMMARY:Fall Break (No School)
DESCRIPTION:
URL:https://www.tuhsd.org/calendar-event/fall-break-no-school-19
END:VEVENT
BEGIN:VEVENT
DTSTART;VALUE=DATE:20251013
DTEND;VALUE=DATE:20251014
DTSTAMP:20260424T012222
CREATED:20240509T232159Z
LAST-MODIFIED:20240610T211740Z
UID:10000999-1760313600-1760399999@www.tuhsd.org
SUMMARY:Indigenous People's Day
DESCRIPTION:
URL:https://www.tuhsd.org/calendar-event/indigenous-peoples-day-5
END:VEVENT
BEGIN:VEVENT
DTSTART;TZID=America/Phoenix:20251014T180000
DTEND;TZID=America/Phoenix:20251014T180000
DTSTAMP:20260424T012222
CREATED:20250712T030850Z
LAST-MODIFIED:20250712T030850Z
UID:10001170-1760464800-1760464800@www.tuhsd.org
SUMMARY:Governing Board Meeting
DESCRIPTION:
URL:https://www.tuhsd.org/calendar-event/governing-board-meeting-6
LOCATION:Copper Canyon High School (PAC)\, 9126 West Camelback Road\, Glendale\, AZ 85305
END:VEVENT
BEGIN:VEVENT
DTSTART;VALUE=DATE:20251015
DTEND;VALUE=DATE:20251016
DTSTAMP:20260424T012222
CREATED:20240509T232159Z
LAST-MODIFIED:20240610T205948Z
UID:10001000-1760486400-1760572799@www.tuhsd.org
SUMMARY:Early Release
DESCRIPTION:
URL:https://www.tuhsd.org/calendar-event/early-release-126
END:VEVENT
BEGIN:VEVENT
DTSTART;VALUE=DATE:20251022
DTEND;VALUE=DATE:20251023
DTSTAMP:20260424T012222
CREATED:20240509T232201Z
LAST-MODIFIED:20240610T205943Z
UID:10001001-1761091200-1761177599@www.tuhsd.org
SUMMARY:Early Release
DESCRIPTION:
URL:https://www.tuhsd.org/calendar-event/early-release-127
END:VEVENT
BEGIN:VEVENT
DTSTART;TZID=America/Phoenix:20251023T173000
DTEND;TZID=America/Phoenix:20251023T193000
DTSTAMP:20260424T012222
CREATED:20250816T151230Z
LAST-MODIFIED:20251015T170257Z
UID:10001187-1761240600-1761247800@www.tuhsd.org
SUMMARY:Community Resource Fair Trunk or Treat
DESCRIPTION:
URL:https://www.tuhsd.org/calendar-event/community-resource-fair-trunk-or-treat-2
LOCATION:TUHSD District Office
END:VEVENT
BEGIN:VEVENT
DTSTART;TZID=America/Phoenix:20251028T180000
DTEND;TZID=America/Phoenix:20251028T180000
DTSTAMP:20260424T012222
CREATED:20250712T030930Z
LAST-MODIFIED:20251024T231103Z
UID:10001171-1761674400-1761674400@www.tuhsd.org
SUMMARY:Governing Board Meeting (Canceled)
DESCRIPTION:
URL:https://www.tuhsd.org/calendar-event/governing-board-meeting-7
LOCATION:Copper Canyon High School (PAC)\, 9126 West Camelback Road\, Glendale\, AZ 85305
END:VEVENT
BEGIN:VEVENT
DTSTART;VALUE=DATE:20251029
DTEND;VALUE=DATE:20251030
DTSTAMP:20260424T012222
CREATED:20240509T232202Z
LAST-MODIFIED:20240610T205735Z
UID:10001002-1761696000-1761782399@www.tuhsd.org
SUMMARY:Early Release
DESCRIPTION:
URL:https://www.tuhsd.org/calendar-event/early-release-128
END:VEVENT
END:VCALENDAR