BEGIN:VCALENDAR
VERSION:2.0
PRODID:-//Tolleson Union High School District - ECPv6.15.17.1//NONSGML v1.0//EN
CALSCALE:GREGORIAN
METHOD:PUBLISH
X-ORIGINAL-URL:https://www.tuhsd.org
X-WR-CALDESC:Events for Tolleson Union High School District
REFRESH-INTERVAL;VALUE=DURATION:PT1H
X-Robots-Tag:noindex
X-PUBLISHED-TTL:PT1H
BEGIN:VTIMEZONE
TZID:America/Phoenix
BEGIN:STANDARD
TZOFFSETFROM:-0700
TZOFFSETTO:-0700
TZNAME:MST
DTSTART:20240101T000000
END:STANDARD
END:VTIMEZONE
BEGIN:VEVENT
DTSTART;VALUE=DATE:20250507
DTEND;VALUE=DATE:20250508
DTSTAMP:20260423T203703
CREATED:20240509T232140Z
LAST-MODIFIED:20240610T210148Z
UID:10000975-1746576000-1746662399@www.tuhsd.org
SUMMARY:Early Release
DESCRIPTION:
URL:https://www.tuhsd.org/calendar-event/early-release-112
END:VEVENT
BEGIN:VEVENT
DTSTART;VALUE=DATE:20250507
DTEND;VALUE=DATE:20250508
DTSTAMP:20260423T203703
CREATED:20240509T232143Z
LAST-MODIFIED:20240610T210105Z
UID:10000980-1746576000-1746662399@www.tuhsd.org
SUMMARY:Early Release
DESCRIPTION:
URL:https://www.tuhsd.org/calendar-event/early-release-116
END:VEVENT
BEGIN:VEVENT
DTSTART;TZID=America/Phoenix:20250513T180000
DTEND;TZID=America/Phoenix:20250513T180000
DTSTAMP:20260423T203703
CREATED:20240625T040916Z
LAST-MODIFIED:20240625T040916Z
UID:10001141-1747159200-1747159200@www.tuhsd.org
SUMMARY:Governing Board Regular Meeting
DESCRIPTION:
URL:https://www.tuhsd.org/calendar-event/governing-board-regular-meeting-2/2025-05-13
LOCATION:9801 W. Van Buren Street Tolleson\, AZ  85353\, 9801 W. Van Buren Street\, Tolleson\, AZ\, 85353
END:VEVENT
BEGIN:VEVENT
DTSTART;TZID=America/Phoenix:20250520T090000
DTEND;TZID=America/Phoenix:20250520T090000
DTSTAMP:20260423T203703
CREATED:20250116T015639Z
LAST-MODIFIED:20250308T021910Z
UID:10001154-1747731600-1747731600@www.tuhsd.org
SUMMARY:Tolleson Union High School - Graduation
DESCRIPTION:
URL:https://www.tuhsd.org/calendar-event/tolleson-union-high-school-graduation
LOCATION:State Farm Stadium
END:VEVENT
BEGIN:VEVENT
DTSTART;TZID=America/Phoenix:20250520T090000
DTEND;TZID=America/Phoenix:20250520T090000
DTSTAMP:20260423T203703
CREATED:20250116T015746Z
LAST-MODIFIED:20250308T022038Z
UID:10001155-1747731600-1747731600@www.tuhsd.org
SUMMARY:University High School - Graduation
DESCRIPTION:
URL:https://www.tuhsd.org/calendar-event/university-high-school-graduation
LOCATION:State Farm Stadium
END:VEVENT
BEGIN:VEVENT
DTSTART;TZID=America/Phoenix:20250520T114500
DTEND;TZID=America/Phoenix:20250520T114500
DTSTAMP:20260423T203703
CREATED:20250116T015451Z
LAST-MODIFIED:20250308T022151Z
UID:10001152-1747741500-1747741500@www.tuhsd.org
SUMMARY:Westview High School - Graduation
DESCRIPTION:
URL:https://www.tuhsd.org/calendar-event/westview-high-school-graduation
LOCATION:State Farm Stadium
END:VEVENT
BEGIN:VEVENT
DTSTART;TZID=America/Phoenix:20250520T140000
DTEND;TZID=America/Phoenix:20250520T140000
DTSTAMP:20260423T203703
CREATED:20250116T015258Z
LAST-MODIFIED:20250308T022318Z
UID:10001150-1747749600-1747749600@www.tuhsd.org
SUMMARY:Sierra Linda High School - Graduation
DESCRIPTION:
URL:https://www.tuhsd.org/calendar-event/sierra-linda-high-school-graduation
LOCATION:State Farm Stadium
END:VEVENT
BEGIN:VEVENT
DTSTART;TZID=America/Phoenix:20250520T163000
DTEND;TZID=America/Phoenix:20250520T163000
DTSTAMP:20260423T203703
CREATED:20250116T015537Z
LAST-MODIFIED:20250407T145612Z
UID:10001153-1747758600-1747758600@www.tuhsd.org
SUMMARY:Copper Canyon High School - Graduation
DESCRIPTION:
URL:https://www.tuhsd.org/calendar-event/copper-canyon-high-school-graduation
LOCATION:State Farm Stadium
END:VEVENT
BEGIN:VEVENT
DTSTART;TZID=America/Phoenix:20250520T193000
DTEND;TZID=America/Phoenix:20250520T193000
DTSTAMP:20260423T203703
CREATED:20250116T015354Z
LAST-MODIFIED:20250308T053528Z
UID:10001151-1747769400-1747769400@www.tuhsd.org
SUMMARY:West Point High School - Graduation
DESCRIPTION:
URL:https://www.tuhsd.org/calendar-event/west-point-high-school-graduation
LOCATION:State Farm Stadium
END:VEVENT
BEGIN:VEVENT
DTSTART;VALUE=DATE:20250521
DTEND;VALUE=DATE:20250522
DTSTAMP:20260423T203703
CREATED:20240509T232142Z
LAST-MODIFIED:20240610T210119Z
UID:10000978-1747785600-1747871999@www.tuhsd.org
SUMMARY:Early Release
DESCRIPTION:
URL:https://www.tuhsd.org/calendar-event/early-release-114
END:VEVENT
BEGIN:VEVENT
DTSTART;TZID=America/Phoenix:20250521T090000
DTEND;TZID=America/Phoenix:20250521T090000
DTSTAMP:20260423T203703
CREATED:20240509T232141Z
LAST-MODIFIED:20250308T021549Z
UID:10000977-1747818000-1747818000@www.tuhsd.org
SUMMARY:La Joya Community High School - Graduation
DESCRIPTION:
URL:https://www.tuhsd.org/calendar-event/graduation-9
LOCATION:State Farm Stadium
END:VEVENT
BEGIN:VEVENT
DTSTART;VALUE=DATE:20250522
DTEND;VALUE=DATE:20250523
DTSTAMP:20260423T203703
CREATED:20240509T232142Z
LAST-MODIFIED:20240610T210113Z
UID:10000979-1747872000-1747958399@www.tuhsd.org
SUMMARY:Early Release
DESCRIPTION:
URL:https://www.tuhsd.org/calendar-event/early-release-115
END:VEVENT
BEGIN:VEVENT
DTSTART;VALUE=DATE:20250523
DTEND;VALUE=DATE:20250524
DTSTAMP:20260423T203703
CREATED:20240509T232144Z
LAST-MODIFIED:20240610T210059Z
UID:10000981-1747958400-1748044799@www.tuhsd.org
SUMMARY:Early Release
DESCRIPTION:
URL:https://www.tuhsd.org/calendar-event/early-release-117
END:VEVENT
BEGIN:VEVENT
DTSTART;VALUE=DATE:20250523
DTEND;VALUE=DATE:20250524
DTSTAMP:20260423T203703
CREATED:20240509T232145Z
LAST-MODIFIED:20240610T211020Z
UID:10000982-1747958400-1748044799@www.tuhsd.org
SUMMARY:Last Day of Spring Classes/End of 2nd Semester
DESCRIPTION:
URL:https://www.tuhsd.org/calendar-event/last-day-of-spring-classes-end-of-2nd-semester-6
END:VEVENT
BEGIN:VEVENT
DTSTART;TZID=America/Phoenix:20250527T180000
DTEND;TZID=America/Phoenix:20250527T180000
DTSTAMP:20260423T203703
CREATED:20250524T200705Z
LAST-MODIFIED:20250524T201055Z
UID:10001122-1748368800-1748368800@www.tuhsd.org
SUMMARY:Governing Board Regular Meeting
DESCRIPTION:
URL:https://www.tuhsd.org/calendar-event/governing-board-regular-meeting-5
LOCATION:Copper Canyon High School (PAC)\, 9126 West Camelback Road\, Glendale\, AZ 85305
END:VEVENT
END:VCALENDAR