BEGIN:VCALENDAR
VERSION:2.0
PRODID:-//Tolleson Union High School District - ECPv6.15.17.1//NONSGML v1.0//EN
CALSCALE:GREGORIAN
METHOD:PUBLISH
X-WR-CALNAME:Tolleson Union High School District
X-ORIGINAL-URL:https://www.tuhsd.org
X-WR-CALDESC:Events for Tolleson Union High School District
REFRESH-INTERVAL;VALUE=DURATION:PT1H
X-Robots-Tag:noindex
X-PUBLISHED-TTL:PT1H
BEGIN:VTIMEZONE
TZID:America/Phoenix
BEGIN:STANDARD
TZOFFSETFROM:-0700
TZOFFSETTO:-0700
TZNAME:MST
DTSTART:20250101T000000
END:STANDARD
END:VTIMEZONE
BEGIN:VEVENT
DTSTART;VALUE=DATE:20260805
DTEND;VALUE=DATE:20260806
DTSTAMP:20260425T090639
CREATED:20240509T232239Z
LAST-MODIFIED:20240515T055337Z
UID:10001048-1785888000-1785974399@www.tuhsd.org
SUMMARY:Early Release
DESCRIPTION:
URL:https://www.tuhsd.org/calendar-event/early-release-158
END:VEVENT
END:VCALENDAR